BEGIN:VCALENDAR
VERSION:2.0
PRODID:-//Ann Morgan // Paintings // Drawings// Artwork - ECPv6.15.20//NONSGML v1.0//EN
CALSCALE:GREGORIAN
METHOD:PUBLISH
X-ORIGINAL-URL:https://www.annmorgan.art
X-WR-CALDESC:Events for Ann Morgan // Paintings // Drawings// Artwork
REFRESH-INTERVAL;VALUE=DURATION:PT1H
X-Robots-Tag:noindex
X-PUBLISHED-TTL:PT1H
BEGIN:VTIMEZONE
TZID:UTC
BEGIN:STANDARD
TZOFFSETFROM:+0000
TZOFFSETTO:+0000
TZNAME:UTC
DTSTART:20210101T000000
END:STANDARD
END:VTIMEZONE
BEGIN:VEVENT
DTSTART;VALUE=DATE:20220902
DTEND;VALUE=DATE:20220903
DTSTAMP:20260421T190305
CREATED:20220728T180505Z
LAST-MODIFIED:20220728T180934Z
UID:1764-1662076800-1662163199@www.annmorgan.art
SUMMARY:The Dairy Block Series: First Friday Art Walk at Inside Her Studio
DESCRIPTION:Come visit me at my first First Friday in the Dairy Block of Denver with Inside Her Studio. \nWhat I’ll Be Bringing\nI’ll be bringing Slice (48 x 72 inches\, $4\,500)\, four limited edition prints of Slice (around 18 x 32 inches\, $185)\, small prints part of the series Pieces of the Unnatural series ($35)\, and five to eight smaller paintings\, 22 x 26 inches from the series Break – original oil paintings priced at just $350.
URL:https://www.annmorgan.art/event/the-dairy-block-series-first-friday-art-walk-at-inside-her-studio/
LOCATION:Dairy Block\, 1800 Wazee St\, Denver\, CO
ATTACH;FMTTYPE=image/jpeg:https://www.annmorgan.art/wp-content/uploads/2022/07/slice.jpg
END:VEVENT
END:VCALENDAR