BEGIN:VCALENDAR
VERSION:2.0
PRODID:-//Ann Morgan // Paintings // Drawings// Artwork - ECPv6.15.20//NONSGML v1.0//EN
CALSCALE:GREGORIAN
METHOD:PUBLISH
X-ORIGINAL-URL:https://www.annmorgan.art
X-WR-CALDESC:Events for Ann Morgan // Paintings // Drawings// Artwork
REFRESH-INTERVAL;VALUE=DURATION:PT1H
X-Robots-Tag:noindex
X-PUBLISHED-TTL:PT1H
BEGIN:VTIMEZONE
TZID:America/Detroit
BEGIN:DAYLIGHT
TZOFFSETFROM:-0500
TZOFFSETTO:-0400
TZNAME:EDT
DTSTART:20210314T070000
END:DAYLIGHT
BEGIN:STANDARD
TZOFFSETFROM:-0400
TZOFFSETTO:-0500
TZNAME:EST
DTSTART:20211107T060000
END:STANDARD
BEGIN:DAYLIGHT
TZOFFSETFROM:-0500
TZOFFSETTO:-0400
TZNAME:EDT
DTSTART:20220313T070000
END:DAYLIGHT
BEGIN:STANDARD
TZOFFSETFROM:-0400
TZOFFSETTO:-0500
TZNAME:EST
DTSTART:20221106T060000
END:STANDARD
BEGIN:DAYLIGHT
TZOFFSETFROM:-0500
TZOFFSETTO:-0400
TZNAME:EDT
DTSTART:20230312T070000
END:DAYLIGHT
BEGIN:STANDARD
TZOFFSETFROM:-0400
TZOFFSETTO:-0500
TZNAME:EST
DTSTART:20231105T060000
END:STANDARD
END:VTIMEZONE
BEGIN:VEVENT
DTSTART;VALUE=DATE:20220915
DTEND;VALUE=DATE:20221003
DTSTAMP:20260421T190328
CREATED:20220531T225324Z
LAST-MODIFIED:20220919T195453Z
UID:1722-1663200000-1664755199@www.annmorgan.art
SUMMARY:ArtPrize: Three Paintings at Atwater Brewery
DESCRIPTION:Two of my paintings (Melted Tree and The Doorway) and maybe a third (Waiting\, Wading) will be at ArtPrize at the Atwater Brewery. They’ll be there the entirety of ArtPrize. I’ll be there on September 15\, which is also my birthday! If you plan on coming to Grand Rapids for ArtPrize\, please let me know! I’d love to meet up. I’ll be in town for set up\, tear down\, and a day or two on either side of both.
URL:https://www.annmorgan.art/event/artprize-three-paintings-at-atwater-brewery/
LOCATION:Atwater Brewery\, The Rowe\, 201 Michigan St NW\, Grand Rapids\, MI\, 49503\, United States
ATTACH;FMTTYPE=image/jpeg:https://www.annmorgan.art/wp-content/uploads/2022/05/WaitingWading-1.jpg
END:VEVENT
END:VCALENDAR