BEGIN:VCALENDAR
VERSION:2.0
PRODID:-//Ann Morgan // Paintings // Drawings// Artwork - ECPv6.15.20//NONSGML v1.0//EN
CALSCALE:GREGORIAN
METHOD:PUBLISH
X-WR-CALNAME:Ann Morgan // Paintings // Drawings// Artwork
X-ORIGINAL-URL:https://www.annmorgan.art
X-WR-CALDESC:Events for Ann Morgan // Paintings // Drawings// Artwork
REFRESH-INTERVAL;VALUE=DURATION:PT1H
X-Robots-Tag:noindex
X-PUBLISHED-TTL:PT1H
BEGIN:VTIMEZONE
TZID:America/Denver
BEGIN:DAYLIGHT
TZOFFSETFROM:-0700
TZOFFSETTO:-0600
TZNAME:MDT
DTSTART:20210314T090000
END:DAYLIGHT
BEGIN:STANDARD
TZOFFSETFROM:-0600
TZOFFSETTO:-0700
TZNAME:MST
DTSTART:20211107T080000
END:STANDARD
BEGIN:DAYLIGHT
TZOFFSETFROM:-0700
TZOFFSETTO:-0600
TZNAME:MDT
DTSTART:20220313T090000
END:DAYLIGHT
BEGIN:STANDARD
TZOFFSETFROM:-0600
TZOFFSETTO:-0700
TZNAME:MST
DTSTART:20221106T080000
END:STANDARD
BEGIN:DAYLIGHT
TZOFFSETFROM:-0700
TZOFFSETTO:-0600
TZNAME:MDT
DTSTART:20230312T090000
END:DAYLIGHT
BEGIN:STANDARD
TZOFFSETFROM:-0600
TZOFFSETTO:-0700
TZNAME:MST
DTSTART:20231105T080000
END:STANDARD
END:VTIMEZONE
BEGIN:VEVENT
DTSTART;TZID=America/Denver:20220611T180000
DTEND;TZID=America/Denver:20220611T210000
DTSTAMP:20260422T015528
CREATED:20220328T225931Z
LAST-MODIFIED:20220328T225931Z
UID:1601-1654970400-1654981200@www.annmorgan.art
SUMMARY:Unnatural Show Opening Party
DESCRIPTION:
URL:https://www.annmorgan.art/event/unnatural-show-opening-party/
LOCATION:SassaBird Fine Art Gallery\, 840 Santa Fe Dr.\, Denver\, 80204\, United States
ATTACH;FMTTYPE=image/jpeg:https://www.annmorgan.art/wp-content/uploads/2022/03/openingAnnMorgan.jpg
END:VEVENT
END:VCALENDAR