BEGIN:VCALENDAR
VERSION:2.0
PRODID:-//Ann Morgan // Paintings // Drawings// Artwork - ECPv6.15.20//NONSGML v1.0//EN
CALSCALE:GREGORIAN
METHOD:PUBLISH
X-ORIGINAL-URL:https://www.annmorgan.art
X-WR-CALDESC:Events for Ann Morgan // Paintings // Drawings// Artwork
REFRESH-INTERVAL;VALUE=DURATION:PT1H
X-Robots-Tag:noindex
X-PUBLISHED-TTL:PT1H
BEGIN:VTIMEZONE
TZID:UTC
BEGIN:STANDARD
TZOFFSETFROM:+0000
TZOFFSETTO:+0000
TZNAME:UTC
DTSTART:20210101T000000
END:STANDARD
END:VTIMEZONE
BEGIN:VEVENT
DTSTART;TZID=UTC:20220610T080000
DTEND;TZID=UTC:20220709T170000
DTSTAMP:20260421T202635
CREATED:20220326T021706Z
LAST-MODIFIED:20220531T225736Z
UID:1582-1654848000-1657386000@www.annmorgan.art
SUMMARY:Unnatural at SassaBird Fine Art Gallery
DESCRIPTION:
URL:https://www.annmorgan.art/event/unnatural-at-sassabird-fine-art-gallery/
LOCATION:SassaBird Fine Art Gallery\, 840 Santa Fe Dr.\, Denver\, 80204\, United States
ATTACH;FMTTYPE=image/jpeg:https://www.annmorgan.art/wp-content/uploads/2022/03/IMG_0142-2-1.jpg
END:VEVENT
BEGIN:VEVENT
DTSTART;TZID=UTC:20220702T163000
DTEND;TZID=UTC:20220702T210000
DTSTAMP:20260421T202635
CREATED:20220627T131337Z
LAST-MODIFIED:20220627T134438Z
UID:1746-1656779400-1656795600@www.annmorgan.art
SUMMARY:SassaBird West Grand Opening Reception & Exhibit Openings
DESCRIPTION:From SassaBird Fine Art Gallery: \nWe are SO excited about our new gallery SassaBird Fine Art West! (Yes\, our original one just across the street is now SassaBird Fine Art East. )\nJoin us for our Grand Opening Celebration where we are introducing two new exhibits. The one at the new gallery is called “Unnatural” and features the art of Ann Morgan\, Annie Decamp\, and Sara Geller as well sculptures by Jason Mehl.\nOn the other side of Santa Fe Drive is our original gallery that will also be participating in the Grand Opening with its new exhibit\, “Still Wild”\, featuring the art of Rebecca Lynn Dash and Luci Geller\, with sculptures by William Joseph!\nJoin us for music\, light bites\, drinks. Wonderful performance art by Honey B. Honest will be performed in the form of fantastic slam poetry. Meet the artists and have a great time enjoying excellent art!
URL:https://www.annmorgan.art/event/sassabird-west-grand-opening-reception-exhibit-openings/
LOCATION:SassaBird Fine Art Gallery West\, 853 Santa Fe Dr\, Denver\, CO\, 80204\, United States
ATTACH;FMTTYPE=image/jpeg:https://www.annmorgan.art/wp-content/uploads/2022/06/grandopening.jpg
END:VEVENT
END:VCALENDAR