BEGIN:VCALENDAR
VERSION:2.0
PRODID:-//Ann Morgan // Paintings // Drawings// Artwork - ECPv6.15.20//NONSGML v1.0//EN
CALSCALE:GREGORIAN
METHOD:PUBLISH
X-ORIGINAL-URL:https://www.annmorgan.art
X-WR-CALDESC:Events for Ann Morgan // Paintings // Drawings// Artwork
REFRESH-INTERVAL;VALUE=DURATION:PT1H
X-Robots-Tag:noindex
X-PUBLISHED-TTL:PT1H
BEGIN:VTIMEZONE
TZID:UTC
BEGIN:STANDARD
TZOFFSETFROM:+0000
TZOFFSETTO:+0000
TZNAME:UTC
DTSTART:20210101T000000
END:STANDARD
END:VTIMEZONE
BEGIN:VEVENT
DTSTART;TZID=UTC:20220805T180000
DTEND;TZID=UTC:20220805T210000
DTSTAMP:20260421T185709
CREATED:20220728T181259Z
LAST-MODIFIED:20220728T182021Z
UID:1770-1659722400-1659733200@www.annmorgan.art
SUMMARY:First Friday at SassaBird Fine Art
DESCRIPTION:Join me for one last First Friday of the Unnatural series before it’s taken down on August 8.
URL:https://www.annmorgan.art/event/first-friday-at-sassabird-fine-art/
LOCATION:SassaBird Fine Art Gallery West\, 853 Santa Fe Dr\, Denver\, CO\, 80204\, United States
ATTACH;FMTTYPE=image/jpeg:https://www.annmorgan.art/wp-content/uploads/2022/07/actualshowpic.jpg
END:VEVENT
END:VCALENDAR